BEGIN:VCALENDAR
VERSION:2.0
PRODID:-//Old Guard New England - ECPv6.1.3//NONSGML v1.0//EN
CALSCALE:GREGORIAN
METHOD:PUBLISH
X-WR-CALNAME:Old Guard New England
X-ORIGINAL-URL:https://oldguardne.org
X-WR-CALDESC:Events for Old Guard New England
REFRESH-INTERVAL;VALUE=DURATION:PT1H
X-Robots-Tag:noindex
X-PUBLISHED-TTL:PT1H
BEGIN:VTIMEZONE
TZID:America/New_York
BEGIN:DAYLIGHT
TZOFFSETFROM:-0500
TZOFFSETTO:-0400
TZNAME:EDT
DTSTART:20210314T070000
END:DAYLIGHT
BEGIN:STANDARD
TZOFFSETFROM:-0400
TZOFFSETTO:-0500
TZNAME:EST
DTSTART:20211107T060000
END:STANDARD
BEGIN:DAYLIGHT
TZOFFSETFROM:-0500
TZOFFSETTO:-0400
TZNAME:EDT
DTSTART:20220313T070000
END:DAYLIGHT
BEGIN:STANDARD
TZOFFSETFROM:-0400
TZOFFSETTO:-0500
TZNAME:EST
DTSTART:20221106T060000
END:STANDARD
END:VTIMEZONE
BEGIN:VEVENT
DTSTART;TZID=America/New_York:20220416T090000
DTEND;TZID=America/New_York:20220416T100000
DTSTAMP:20260424T181147
CREATED:20211106T220445Z
LAST-MODIFIED:20211107T155646Z
UID:103-1650099600-1650103200@oldguardne.org
SUMMARY:April General Meeting
DESCRIPTION:Agenda: TBD
URL:https://oldguardne.org/event/april-general-meeting/
LOCATION:Dunkin Donuts Conference Room\, 78 West Main St\, Hopkinton\, MA\, 01748\, United States
CATEGORIES:General Meeting
ORGANIZER;CN="Old%20Guard%20New%20England":MAILTO:Info@oldguardne.org
END:VEVENT
BEGIN:VEVENT
DTSTART;TZID=America/New_York:20220319T083000
DTEND;TZID=America/New_York:20220319T093000
DTSTAMP:20260424T181147
CREATED:20211106T220323Z
LAST-MODIFIED:20220311T184111Z
UID:101-1647678600-1647682200@oldguardne.org
SUMMARY:March General Meeting
DESCRIPTION:Agenda:  Abbreviated to cover high priority topics only.  Will need to end in time to leave for the Honor Guard mission.
URL:https://oldguardne.org/event/march-general-meeting/
LOCATION:Dunkin Donuts Conference Room\, 78 West Main St\, Hopkinton\, MA\, 01748\, United States
CATEGORIES:General Meeting
ORGANIZER;CN="Old%20Guard%20New%20England":MAILTO:Info@oldguardne.org
END:VEVENT
BEGIN:VEVENT
DTSTART;TZID=America/New_York:20220219T090000
DTEND;TZID=America/New_York:20220219T100000
DTSTAMP:20260424T181147
CREATED:20211106T220148Z
LAST-MODIFIED:20211107T155821Z
UID:98-1645261200-1645264800@oldguardne.org
SUMMARY:February General Meeting
DESCRIPTION:Agenda: TBD
URL:https://oldguardne.org/event/february-general-meeting/
LOCATION:Dunkin Donuts Conference Room\, 78 West Main St\, Hopkinton\, MA\, 01748\, United States
CATEGORIES:General Meeting
ORGANIZER;CN="Old%20Guard%20New%20England":MAILTO:Info@oldguardne.org
END:VEVENT
BEGIN:VEVENT
DTSTART;TZID=America/New_York:20220115T090000
DTEND;TZID=America/New_York:20220115T100000
DTSTAMP:20260424T181147
CREATED:20211106T220046Z
LAST-MODIFIED:20211128T152704Z
UID:95-1642237200-1642240800@oldguardne.org
SUMMARY:January General Meeting
DESCRIPTION:Agenda: TBD
URL:https://oldguardne.org/event/december-general-meeting/
LOCATION:Dunkin Donuts Conference Room\, 78 West Main St\, Hopkinton\, MA\, 01748\, United States
CATEGORIES:General Meeting
ORGANIZER;CN="Old%20Guard%20New%20England":MAILTO:Info@oldguardne.org
END:VEVENT
BEGIN:VEVENT
DTSTART;TZID=America/New_York:20211120T090000
DTEND;TZID=America/New_York:20211120T100000
DTSTAMP:20260424T181147
CREATED:20211106T215853Z
LAST-MODIFIED:20211107T160314Z
UID:91-1637398800-1637402400@oldguardne.org
SUMMARY:November General Meeting
DESCRIPTION:Agenda: \n\nReviewing Last Months Meeting Minutes\nDiscussing Gun Salute Practice for Wreaths Across America\nDiscussing Wreaths Gun Salute\nDetermining meeting times and locations for Wreaths Across America event
URL:https://oldguardne.org/event/november-general-meeting/
LOCATION:Dunkin Donuts Conference Room\, 78 West Main St\, Hopkinton\, MA\, 01748\, United States
CATEGORIES:General Meeting
ORGANIZER;CN="Old%20Guard%20New%20England":MAILTO:Info@oldguardne.org
END:VEVENT
END:VCALENDAR